BEGIN:VCALENDAR
VERSION:2.0
PRODID:-//Grantham Business Club - ECPv6.15.12.1//NONSGML v1.0//EN
CALSCALE:GREGORIAN
METHOD:PUBLISH
X-WR-CALNAME:Grantham Business Club
X-ORIGINAL-URL:https://www.granthambusinessclub.com
X-WR-CALDESC:Events for Grantham Business Club
REFRESH-INTERVAL;VALUE=DURATION:PT1H
X-Robots-Tag:noindex
X-PUBLISHED-TTL:PT1H
BEGIN:VTIMEZONE
TZID:Europe/London
BEGIN:DAYLIGHT
TZOFFSETFROM:+0000
TZOFFSETTO:+0100
TZNAME:BST
DTSTART:20230326T010000
END:DAYLIGHT
BEGIN:STANDARD
TZOFFSETFROM:+0100
TZOFFSETTO:+0000
TZNAME:GMT
DTSTART:20231029T010000
END:STANDARD
BEGIN:DAYLIGHT
TZOFFSETFROM:+0000
TZOFFSETTO:+0100
TZNAME:BST
DTSTART:20240331T010000
END:DAYLIGHT
BEGIN:STANDARD
TZOFFSETFROM:+0100
TZOFFSETTO:+0000
TZNAME:GMT
DTSTART:20241027T010000
END:STANDARD
BEGIN:DAYLIGHT
TZOFFSETFROM:+0000
TZOFFSETTO:+0100
TZNAME:BST
DTSTART:20250330T010000
END:DAYLIGHT
BEGIN:STANDARD
TZOFFSETFROM:+0100
TZOFFSETTO:+0000
TZNAME:GMT
DTSTART:20251026T010000
END:STANDARD
END:VTIMEZONE
BEGIN:VEVENT
DTSTART;TZID=Europe/London:20240517T073000
DTEND;TZID=Europe/London:20240517T090000
DTSTAMP:20260420T055723
CREATED:20240418T125932Z
LAST-MODIFIED:20240419T171723Z
UID:2990-1715931000-1715936400@www.granthambusinessclub.com
SUMMARY:friday 17th may
DESCRIPTION:The MAY meeting includes: \nAll GBC meetings include Tea/Coffee as well as networking opportunities before\, during and after… Want some breakfast at the break? Order a ticket that includes a breakfast roll. \nThe meeting starts with the opportunity to introduce your business to the 40-50 organisations in the room. Starting with our 60 Second Spotlight winner from last month (10 secs max) \nTable networking (Session 1) – 60 seconds to introduce your business to the fellow members of your table  \nKeynote Speaker: Fireside Chat with Jacqui Hanbury  \nThis month our Vice-Chair Paul Green sits down with GBC regular Jacqui Hanbury for a friendly discussion. \nJacqui Hanbury is a communication specialist who has built her knowledge and expertise over many years of working in large corporate companies seeing the good and bad of communication and the implications of both!  Working as a Control Engineer in sales\, marketing\, strategy and management roles Jacqui has much to share about being a women in engineering.  As the first women apprentice in Philips in the UK and the first female sales rep that many engineering companies had ever seen her working life has been interesting for sure!    And she now uses all that experience and her subsequent training as an executive business coach to advise businesses on how better communication can transform outcomes for businesses and their staff. \nAfter the break: (15mins to network and grab a tea/coffee top up and breakfast roll.) \nTable networking (Session 2) – 60 seconds to introduce your business to the fellow members of your table 
URL:https://www.granthambusinessclub.com/event/friday-17th-may/
LOCATION:Jubilee Church Life Centre\, 5 London Rd\, Grantham\, NG31 6EY\, United Kingdom
ATTACH;FMTTYPE=image/png:https://www.granthambusinessclub.com/wp-content/uploads/2024/04/GBC-Banner-11.png
END:VEVENT
END:VCALENDAR