BEGIN:VCALENDAR
VERSION:2.0
PRODID:-//Grantham Business Club - ECPv6.15.12.1//NONSGML v1.0//EN
CALSCALE:GREGORIAN
METHOD:PUBLISH
X-WR-CALNAME:Grantham Business Club
X-ORIGINAL-URL:https://www.granthambusinessclub.com
X-WR-CALDESC:Events for Grantham Business Club
REFRESH-INTERVAL;VALUE=DURATION:PT1H
X-Robots-Tag:noindex
X-PUBLISHED-TTL:PT1H
BEGIN:VTIMEZONE
TZID:Europe/London
BEGIN:DAYLIGHT
TZOFFSETFROM:+0000
TZOFFSETTO:+0100
TZNAME:BST
DTSTART:20230326T010000
END:DAYLIGHT
BEGIN:STANDARD
TZOFFSETFROM:+0100
TZOFFSETTO:+0000
TZNAME:GMT
DTSTART:20231029T010000
END:STANDARD
BEGIN:DAYLIGHT
TZOFFSETFROM:+0000
TZOFFSETTO:+0100
TZNAME:BST
DTSTART:20240331T010000
END:DAYLIGHT
BEGIN:STANDARD
TZOFFSETFROM:+0100
TZOFFSETTO:+0000
TZNAME:GMT
DTSTART:20241027T010000
END:STANDARD
BEGIN:DAYLIGHT
TZOFFSETFROM:+0000
TZOFFSETTO:+0100
TZNAME:BST
DTSTART:20250330T010000
END:DAYLIGHT
BEGIN:STANDARD
TZOFFSETFROM:+0100
TZOFFSETTO:+0000
TZNAME:GMT
DTSTART:20251026T010000
END:STANDARD
END:VTIMEZONE
BEGIN:VEVENT
DTSTART;TZID=Europe/London:20240411T173000
DTEND;TZID=Europe/London:20240411T190000
DTSTAMP:20260420T025931
CREATED:20240314T141132Z
LAST-MODIFIED:20240410T094215Z
UID:2872-1712856600-1712862000@www.granthambusinessclub.com
SUMMARY:april gbc retailer event
DESCRIPTION:🌟 About Us: At Grantham Business Club\, we believe in the power of collaboration and community. Our Monthly Networking Event is a platform designed exclusively for high street retailers and businesses to come together\, fostering a spirit of camaraderie and innovation. Join us as we create a space where ideas flourish\, best practices are shared\, and connections are forged. \n🛍️ Focus on High Street: Our events specifically cater to the unique challenges and opportunities faced by high street retailers. In an ever-evolving business landscape\, we understand the importance of adapting strategies to thrive in a competitive market. The Monthly Networking Event is your chance to engage with like-minded professionals\, gain valuable insights\, and stay ahead of the curve. \n🤝 Networking Opportunities: Connect with fellow entrepreneurs\, business owners\, and professionals who share your passion for success on the high street. Our networking sessions provide a relaxed and welcoming environment for meaningful conversations\, allowing you to build lasting relationships that extend beyond the event. \n🔍 Knowledge Sharing: Explore the latest trends\, strategies\, and innovations shaping the high street retail sector. Our Monthly Networking Event features insightful keynote speakers who bring a wealth of knowledge and experience to the table. Learn from industry experts and discover practical solutions to elevate your business. \n🔄 Agenda: Each event is carefully curated to ensure a dynamic and engaging experience. From hand picked keynote speakers to informative Q&A sessions\, our agenda is designed to cater to the diverse needs of high street businesses. \n🌐 Stay Connected: Keep the conversation going even after the event through our online community. Join the Grantham retailers Facebook group (Click here) to access resources\, continue discussions\, and stay updated on industry news. We believe in the power of a connected community and strive to provide ongoing support for your business journey. \n📍 Join Us: Whether you’re a seasoned entrepreneur or just starting on your high street retail journey\, the Grantham Business Club Monthly Networking Event is the place to be. Come together\, share ideas\, and be part of a thriving community dedicated to the success of high street businesses. \nDon’t miss out on this opportunity to connect\, collaborate\, and elevate your business. See you at our next Monthly Networking Event!
URL:https://www.granthambusinessclub.com/event/april-gbc-retailer-event/
LOCATION:The Tap\, 83 Westgate\, Grantham\, NG31 6LE\, United Kingdom
ATTACH;FMTTYPE=image/png:https://www.granthambusinessclub.com/wp-content/uploads/2024/03/GBC-Banner-8.png
END:VEVENT
BEGIN:VEVENT
DTSTART;TZID=Europe/London:20240419T073000
DTEND;TZID=Europe/London:20240419T090000
DTSTAMP:20260420T025931
CREATED:20240216T135937Z
LAST-MODIFIED:20240410T094049Z
UID:2779-1713511800-1713517200@www.granthambusinessclub.com
SUMMARY:headshot photography - Nicola Auckland
DESCRIPTION:We are working again in collaboration with brand photographer Nicola Auckland. \nNicola helps ambitious business owners create thoughtful\, on-brand imagery so they stand out to their ideal audience. Be visible\, create relationships & gain clients with brand photography. \nDuring the APRIL meeting (before the start\, during the break and at the end) Nicola will take 2/3 professional headshots for booked on GBC members (MAX of 10 slots available) \nYou will have the option to choose the one you prefer which she will edit accordingly. \nThe special GBC rate is £15 per image. Payment is direct to Nicola on receipt of your image. \nNOTE You must be booked on for the April GBC meeting to attend this photoshoot – You can book your spot here
URL:https://www.granthambusinessclub.com/event/headshot-photography-nicola-auckland-3/
LOCATION:Jubilee Church Life Centre\, 5 London Rd\, Grantham\, NG31 6EY\, United Kingdom
ATTACH;FMTTYPE=image/png:https://www.granthambusinessclub.com/wp-content/uploads/2024/02/GBC-Banner-7.png
END:VEVENT
BEGIN:VEVENT
DTSTART;TZID=Europe/London:20240419T073000
DTEND;TZID=Europe/London:20240419T090000
DTSTAMP:20260420T025931
CREATED:20240228T095101Z
LAST-MODIFIED:20240410T093954Z
UID:2806-1713511800-1713517200@www.granthambusinessclub.com
SUMMARY:friday 19th april
DESCRIPTION:The APRIL meeting includes: \nAll GBC meetings include Tea/Coffee as well as networking opportunities before\, during and after… Want some breakfast at the break? Order a ticket that includes a breakfast roll. \nThe meeting starts with the opportunity to introduce your business to the 40-50 organisations in the room. Starting with our 60 Second Spotlight winner from last month (10 secs max) \nTable networking (Session 1) – 60 seconds to introduce your business to the fellow members of your table  \nKeynote Speaker: Jacob Wright \nAs a financial planner my aim is to help you achieve ‘financial freedom’. That is the ability to live life on your own terms and have the financial resources to do so.\nHow do I do that? We work together to answer these three questions:\n1) Can I/we spend my money how I/we want to\, now and in the future?\n2) Will I/we run out of money?\n3) If I/we have any spare money\, can I/we pass it to my wife/children/partner etc.\nSimply put\, the earlier you start planning\, the better your chances are to achieve your financial goals. It shouldn’t be any more complicated than that.\n\nAfter the break: (15mins to network and grab a tea/coffee top up and breakfast roll.) \nAGM – Our annual report on the Clubs achievements over the last 12 months\, presented by our Chairman
URL:https://www.granthambusinessclub.com/event/friday-19th-april/
LOCATION:Jubilee Church Life Centre\, 5 London Rd\, Grantham\, NG31 6EY\, United Kingdom
ATTACH;FMTTYPE=image/png:https://www.granthambusinessclub.com/wp-content/uploads/2024/02/GBC-Banner-9.png
END:VEVENT
END:VCALENDAR