BEGIN:VCALENDAR
VERSION:2.0
PRODID:-//Grantham Business Club - ECPv6.15.12.1//NONSGML v1.0//EN
CALSCALE:GREGORIAN
METHOD:PUBLISH
X-WR-CALNAME:Grantham Business Club
X-ORIGINAL-URL:https://www.granthambusinessclub.com
X-WR-CALDESC:Events for Grantham Business Club
REFRESH-INTERVAL;VALUE=DURATION:PT1H
X-Robots-Tag:noindex
X-PUBLISHED-TTL:PT1H
BEGIN:VTIMEZONE
TZID:Europe/London
BEGIN:DAYLIGHT
TZOFFSETFROM:+0000
TZOFFSETTO:+0100
TZNAME:BST
DTSTART:20230326T010000
END:DAYLIGHT
BEGIN:STANDARD
TZOFFSETFROM:+0100
TZOFFSETTO:+0000
TZNAME:GMT
DTSTART:20231029T010000
END:STANDARD
BEGIN:DAYLIGHT
TZOFFSETFROM:+0000
TZOFFSETTO:+0100
TZNAME:BST
DTSTART:20240331T010000
END:DAYLIGHT
BEGIN:STANDARD
TZOFFSETFROM:+0100
TZOFFSETTO:+0000
TZNAME:GMT
DTSTART:20241027T010000
END:STANDARD
BEGIN:DAYLIGHT
TZOFFSETFROM:+0000
TZOFFSETTO:+0100
TZNAME:BST
DTSTART:20250330T010000
END:DAYLIGHT
BEGIN:STANDARD
TZOFFSETFROM:+0100
TZOFFSETTO:+0000
TZNAME:GMT
DTSTART:20251026T010000
END:STANDARD
END:VTIMEZONE
BEGIN:VEVENT
DTSTART;TZID=Europe/London:20240621T073000
DTEND;TZID=Europe/London:20240621T090000
DTSTAMP:20260420T093815
CREATED:20240514T134646Z
LAST-MODIFIED:20240515T141306Z
UID:3091-1718955000-1718960400@www.granthambusinessclub.com
SUMMARY:friday 21st june
DESCRIPTION:The JUNE meeting includes: \nAll GBC meetings include Tea/Coffee as well as networking opportunities before\, during and after… Want some breakfast at the break? Order a ticket that includes a breakfast roll. \nThe meeting starts with the opportunity to introduce your business to the 40-50 organisations in the room. Starting with our 60 Second Spotlight winner from last month (10 secs max) \nTable networking (Session 1) – 60 seconds to introduce your business to the fellow members of your table  \nKeynote Speaker: 7 Presentation Pitfalls and How to Avoid Them with Kaffy Rice-Oxley \nKaffy Rice-Oxley is a trained singer with extensive experience of working with actors and speakers. She performs as vintage singer Melody Flyte and speaks on aspects of music history across the UK. She now offers 1:1 and small group coaching in all aspects of public speaking through www.voiceconfident.com. \nAfter the break: (15mins to network and grab a tea/coffee top up and breakfast roll.) \nTable networking (Session 2) – 60 seconds to introduce your business to the fellow members of your table 
URL:https://www.granthambusinessclub.com/event/friday-21st-june/
LOCATION:Jubilee Church Life Centre\, 5 London Rd\, Grantham\, NG31 6EY\, United Kingdom
ATTACH;FMTTYPE=image/png:https://www.granthambusinessclub.com/wp-content/uploads/2024/05/GBC-Banner-14.png
END:VEVENT
END:VCALENDAR