BEGIN:VCALENDAR
VERSION:2.0
PRODID:-//Grantham Business Club - ECPv6.15.12.1//NONSGML v1.0//EN
CALSCALE:GREGORIAN
METHOD:PUBLISH
X-ORIGINAL-URL:https://www.granthambusinessclub.com
X-WR-CALDESC:Events for Grantham Business Club
REFRESH-INTERVAL;VALUE=DURATION:PT1H
X-Robots-Tag:noindex
X-PUBLISHED-TTL:PT1H
BEGIN:VTIMEZONE
TZID:Europe/London
BEGIN:DAYLIGHT
TZOFFSETFROM:+0000
TZOFFSETTO:+0100
TZNAME:BST
DTSTART:20230326T010000
END:DAYLIGHT
BEGIN:STANDARD
TZOFFSETFROM:+0100
TZOFFSETTO:+0000
TZNAME:GMT
DTSTART:20231029T010000
END:STANDARD
BEGIN:DAYLIGHT
TZOFFSETFROM:+0000
TZOFFSETTO:+0100
TZNAME:BST
DTSTART:20240331T010000
END:DAYLIGHT
BEGIN:STANDARD
TZOFFSETFROM:+0100
TZOFFSETTO:+0000
TZNAME:GMT
DTSTART:20241027T010000
END:STANDARD
BEGIN:DAYLIGHT
TZOFFSETFROM:+0000
TZOFFSETTO:+0100
TZNAME:BST
DTSTART:20250330T010000
END:DAYLIGHT
BEGIN:STANDARD
TZOFFSETFROM:+0100
TZOFFSETTO:+0000
TZNAME:GMT
DTSTART:20251026T010000
END:STANDARD
END:VTIMEZONE
BEGIN:VEVENT
DTSTART;TZID=Europe/London:20240719T073000
DTEND;TZID=Europe/London:20240719T090000
DTSTAMP:20260420T222205
CREATED:20240613T192547Z
LAST-MODIFIED:20240613T192547Z
UID:3206-1721374200-1721379600@www.granthambusinessclub.com
SUMMARY:friday 19th july
DESCRIPTION:The JULY meeting includes: \nAll GBC meetings include Tea/Coffee as well as networking opportunities before\, during and after… Want some breakfast at the break? Order a ticket that includes a breakfast roll. \nThe meeting starts with the opportunity to introduce your business to the 40-50 organisations in the room. Starting with our 60 Second Spotlight winner from last month (10 secs max) \nTable networking (Session 1) – 60 seconds to introduce your business to the fellow members of your table  \nKeynote Speaker: Sharron Marriott – You’ve Got To Be In It To Win It! \n\n\n\n\n\nSharron Marriott of Iliffe Media Group\, owner’s of the Grantham Journal joins us to share their plans for this year’s Grantham Journal Business Awards\, taking place at Arena UK on Friday\, November 22nd. Sharron will talk about the benefits of entering the awards and demonstrate the entry process.\n\n\n\n\n\n\n\n\n\nAfter the break: (15mins to network and grab a tea/coffee top up and breakfast roll.) \nTable networking (Session 2) – 60 seconds to introduce your business to the fellow members of your table 
URL:https://www.granthambusinessclub.com/event/friday-19th-july-2/
LOCATION:Jubilee Church Life Centre\, 5 London Rd\, Grantham\, NG31 6EY\, United Kingdom
ATTACH;FMTTYPE=image/png:https://www.granthambusinessclub.com/wp-content/uploads/2024/06/GBC-Banner-15.png
END:VEVENT
END:VCALENDAR